BEGIN:VCALENDAR
VERSION:2.0
PRODID:-//Besa - ECPv6.15.16//NONSGML v1.0//EN
CALSCALE:GREGORIAN
METHOD:PUBLISH
X-WR-CALNAME:Besa
X-ORIGINAL-URL:https://besa.hr
X-WR-CALDESC:Events for Besa
REFRESH-INTERVAL;VALUE=DURATION:PT1H
X-Robots-Tag:noindex
X-PUBLISHED-TTL:PT1H
BEGIN:VTIMEZONE
TZID:Europe/Zagreb
BEGIN:DAYLIGHT
TZOFFSETFROM:+0100
TZOFFSETTO:+0200
TZNAME:CEST
DTSTART:20240331T010000
END:DAYLIGHT
BEGIN:STANDARD
TZOFFSETFROM:+0200
TZOFFSETTO:+0100
TZNAME:CET
DTSTART:20241027T010000
END:STANDARD
BEGIN:DAYLIGHT
TZOFFSETFROM:+0100
TZOFFSETTO:+0200
TZNAME:CEST
DTSTART:20250330T010000
END:DAYLIGHT
BEGIN:STANDARD
TZOFFSETFROM:+0200
TZOFFSETTO:+0100
TZNAME:CET
DTSTART:20251026T010000
END:STANDARD
BEGIN:DAYLIGHT
TZOFFSETFROM:+0100
TZOFFSETTO:+0200
TZNAME:CEST
DTSTART:20260329T010000
END:DAYLIGHT
BEGIN:STANDARD
TZOFFSETFROM:+0200
TZOFFSETTO:+0100
TZNAME:CET
DTSTART:20261025T010000
END:STANDARD
END:VTIMEZONE
BEGIN:VEVENT
DTSTART;VALUE=DATE:20250830
DTEND;VALUE=DATE:20250907
DTSTAMP:20260423T140339
CREATED:20250721T100630Z
LAST-MODIFIED:20250806T135410Z
UID:576-1756512000-1757203199@besa.hr
SUMMARY:SAILING EROS\, jedrenje za žene\, 30.8.-6.9.2025.\, Jadran\, dalmatinski otoci - polazak iz marine Tribunj
DESCRIPTION:SAILING EROS\, program koji na dubokoj\, intimnoj razini povezuje žensku senzualnost i seksualnost. \nNa ovom jedrenju istražujemo: \n\n(Ne)povezanost našeg srca i našeg erosa\nKoliko smo slobodne u bivanju i izražavanju naše seksualnosti\nNaš kapacitet za tjelesni užitak i kako ga možemo podržati u svom životu\nOgraničavajuća uvjerenja\, obrasce i ponašanja koje smo kulturološki naslijedile\nDrevne prakse ženske mudrosti\n\nZaplovi s nama u ženskom krugu\, gdje vjetar nosi slobodu\, more budi eros\, a jedrenje postaje put do dubljeg osjećaja sebe. \nU središtu našeg programa je povratak sebi – tijelu\, srcu i duhu. Povratak svetosti Erosa. Iscjeljenje rana koje su nas odvojile od sebe i drugih.  \nZašto ovaj program? \n\nJer živimo u vremenu u kojem je seksualnost puna kontradikcija – sram\, pritisci i tišina\, dok istovremeno vrišti iz svakog medija.\nJer su žene generacijama bile potiskivane\, posramljivane\, zlostavljane… Tijelo je nosilo sve to – šutke i zategnuto. Posebno u području zdjelice.\nJer su muškarci odgajani da moraju “biti sposobni”\, dokazivati se\, često odvojeni od srca i stvarne prisutnosti.\n\nA intimnost – još uvijek prečesto boli. \nOvo žensko jedrenje je za sve žene bez obzira na status veze\, a koje: \n\nžele otkriti kako užitak jedrenja i plovidbe morem mogu podržati cvjetanje ženskog erosa\nžele probuditi senzualnost\, životnost i kontakt s tijelom\nimaju izazove u partnerstvu\, seksualnosti\, odnosu sa sobom\nžele iscijeliti rane iz prošlosti (svoje ili kolektivne)\nimaju emocionalne ili fizičke tegobe u području zdjelice (bol\, sram\, traumu\, napetost\, disfunkciju)\ntragaju za dubljim duhovnim povezivanjem kroz tijelo i žele istražiti seksualnost kao sveto iskustvo i duhovni put\n\nAko te zove ova unutarnja i vanjska avantura – pridruži nam se. Jedrilica čeka.  \nVeć četvrtu godinu su sva naša jedrenja namijenjena ženama koje: \n\nŽele uroniti uz sebe kroz tijelo\, kreativnost i duhovnost\nŽele iskustvo jedrenja i uživanja\nŽele osjetiti žensku podršku i doživjeti njenu moć iscjeljivanja\nZanima iskustveni rad s tijelom bez obzira na prethodno iskustvo u tjelesnoj psihoterapiji\nIstražuju duhovnost i različite prakse\nIdeja o sedam dana jedrenja samo sa ženama (ne)ugodno emocionalno aktivira\nImaju poteškoća u povezivanju s drugima ženama\, sobom\, kapacitetom za užitak\, prepuštanjem i seksualnošću\nSu dovoljno hrabre i znatiželjne da se upuste s nama u ovo putovanje.\n\nKreatorice ovog programa sa sobom nose višegodišnje iskustvo rada s ljudima\, pohađanja raznih edukacija kroz umjetnost\, ples\, zaštitu okoliša\, rad s tijelom\, psihoterapiju\, meditaciju\, vođenje programa za žene te ogromnu ljubav prema čovjeku\, prirodi i moru. \nMarica Grgurinović – savjetodavna terapeutkinja tjelesno-orijentirane psihoterapije po metodi Centra za integrativni razvoj\, punopravna članica HKPT (Hrvatska komora psihoterapeuta) i EABP (Europska asocijacije tjelesnih psihoterapeuta)\, kazališna redateljica\, obiteljska konstelatorica\, plesačica\, skiperica \nGabrijela Medunić – Orlić\, završila edukaciju iz tjelesno-orijentirane psihoterapije pri Centru za integrativni razvoj\, trenutno u edukaciji za licencu savjetodavnog terapeuta\, dugogodišnja aktivistkinja u zaštiti okoliša i direktorica Udruge za prirodu\, okoliš i održivi razvoj Sunce\, plesačica i skiperica \nZaplovi s nama u ženskom krugu\, gdje vjetar nosi slobodu\, more budi eros\, a jedrenje postaje put do dubljeg osjećaja sebe. \nKAD: 30.8. – 6.9.2025. \nVELIČINA GRUPE I BROD: 8 sudionica smještene na jedrilici tipa Sun Odyssey 49 – 2004. s četiri dvokrevetne kabine + 2 voditeljice na brodu \nGDJE: Jadran\, dalmatinski otoci (polazak iz marine Tribunj) \nCIJENA za prijave do 15.3. u ponoć: 830 eura \nCIJENA za prijave od 16.3. do popunjavanja grupe: 930 eura. U cijenu je uključeno sve osim hrane (dijeli se na sudionice) i putnih troškova (do marine). \nPRIJAVE: Broj mjesta je ograničen\, pa je prijava obavezna. Prijava je važeća uz polog od 300 eura koji je uključen u cijenu (podaci za uplatu stižu nakon ispunjavanja linka za prijavu) \nPRIJAVNICA: https://forms.gle/PEfuFXq7F7FvawpB9 \nINFORMACIJE na mail: kazalistebesa@gmail.com \n*U slučaju rane prijave jedriličarke koje su već sudjelovale u našim programima za žene imaju popust od 5%. \nAko vas zanima kako je bilo proteklih godina\, bacite pogled na naše galeriju na FB profilu BESA Art & Heal. \nPrijava na newsletter: http://eepurl.com/hVjK2T
URL:https://besa.hr/event/sailing-eros-jedrenje-za-zene-30-8-6-9-2025-jadran-dalmatinski-otoci-polazak-iz-marine-tribunj/
ATTACH;FMTTYPE=image/jpeg:https://besa.hr/wp-content/uploads/2025/07/eros.jpg
END:VEVENT
END:VCALENDAR