BEGIN:VCALENDAR
VERSION:2.0
PRODID:-//Besa - ECPv6.15.16//NONSGML v1.0//EN
CALSCALE:GREGORIAN
METHOD:PUBLISH
X-WR-CALNAME:Besa
X-ORIGINAL-URL:https://besa.hr
X-WR-CALDESC:Events for Besa
REFRESH-INTERVAL;VALUE=DURATION:PT1H
X-Robots-Tag:noindex
X-PUBLISHED-TTL:PT1H
BEGIN:VTIMEZONE
TZID:Europe/Zagreb
BEGIN:DAYLIGHT
TZOFFSETFROM:+0100
TZOFFSETTO:+0200
TZNAME:CEST
DTSTART:20240331T010000
END:DAYLIGHT
BEGIN:STANDARD
TZOFFSETFROM:+0200
TZOFFSETTO:+0100
TZNAME:CET
DTSTART:20241027T010000
END:STANDARD
BEGIN:DAYLIGHT
TZOFFSETFROM:+0100
TZOFFSETTO:+0200
TZNAME:CEST
DTSTART:20250330T010000
END:DAYLIGHT
BEGIN:STANDARD
TZOFFSETFROM:+0200
TZOFFSETTO:+0100
TZNAME:CET
DTSTART:20251026T010000
END:STANDARD
BEGIN:DAYLIGHT
TZOFFSETFROM:+0100
TZOFFSETTO:+0200
TZNAME:CEST
DTSTART:20260329T010000
END:DAYLIGHT
BEGIN:STANDARD
TZOFFSETFROM:+0200
TZOFFSETTO:+0100
TZNAME:CET
DTSTART:20261025T010000
END:STANDARD
END:VTIMEZONE
BEGIN:VEVENT
DTSTART;VALUE=DATE:20251004
DTEND;VALUE=DATE:20251012
DTSTAMP:20260423T125111
CREATED:20250704T060034Z
LAST-MODIFIED:20250806T135056Z
UID:569-1759536000-1760227199@besa.hr
SUMMARY:SAILING ELEMENTS\, jedrenje za žene\, 4. - 11.10.2025.\, Jadran\, dalmatinski otoci
DESCRIPTION:Otisnuti se na pučinu\, razviti svoja jedra širom i dozvoliti da te vjetar nosi\, izložiti svoja čula nebeskom i morskom plavetnilu na Jadranu\, zvuči čarobno\, magično – i jest. \nSusrećemo se s idealiziranjem jedrenja\, a jedrenje pruža puno više od toga pa smo odlučile preokrenuti to u našu prednost. Od 2022. stvorile smo nekoliko programa kojima je baza jedrenje\, metode rada tjelesna psihoterapija\, umjetnost i kreativnost te duhovni rad\, a namjera stvarati prostore u kojima će Žene biti bliže sebi i jedna drugoj\, osnaživati ih i stvarati nove krugove povjerenja među ljudskim bićima. \nJedrenja su namijenjena ženama koje: \n\nŽele uroniti uz sebe kroz tijelo\, kreativnost i duhovnost\nŽele iskustvo jedrenja i uživanja\nŽele osjetiti žensku podršku i doživjeti njenu moć iscjeljivanja\nZanima ih iskustveni rad s tijelom bez obzira na prethodno iskustvo u tjelesnoj psihoterapiji\nIstražuju duhovnost i različite prakse\nIdeja o sedam dana jedrenja samo sa ženama (ne)ugodno emocionalno aktivira\nImaju poteškoća u povezivanju s drugim ženama\, sobom\, kapacitetom za užitak\, prepuštanjem i seksualnošću\nSu dovoljno hrabre i znatiželjne da se upuste s nama u ovo putovanje.\n\nKreatorice ovih programa sa sobom nose višegodišnje iskustvo rada s ljudima\, pohađanja raznih edukacija kroz umjetnost\, ples\, zaštitu okoliša\, rad s tijelom\, psihoterapiju\, meditaciju\, vođenje programa za žene te ogromnu ljubav prema čovjeku\, prirodi i moru. \nMarica Grgurinović – savjetodavna terapeutkinja tjelesno-orijentirane psihoterapije po metodi Centra za integrativni razvoj\, punopravna članica HKPT (Hrvatska komora psihoterapeuta) i EABP (Europska asocijacije tjelesnih psihoterapeuta)\, kazališna redateljica\, obiteljska konstelatorica\, plesačica\, skiperica \nGabrijela Medunić – Orlić\, završila edukaciju iz tjelesno-orijentirane psihoterapije pri Centru za integrativni razvoj\, trenutno u edukaciji za licencu savjetodavnog terapeuta\, dugogodišnja aktivistkinja u zaštiti okoliša i direktorica Udruge za prirodu\, okoliš i održivi razvoj Sunce\, plesačica i skiperica \nSAILING ELEMENTS – program temeljen na radu s elementima \nNa ovom jedrenju istražujemo: \n\nTemu i koncept rada s elementima (Vatra\, Voda\, Zemlja\, Zrak\, Eter)\nKako elementi utječu na nas i kako su manifestirani u prirodi oko nas\nKakve veze imaju poteškoće u našim životima s elementima\nKako aktivirati moć elementa za više ravnoteže u životu\n\nIzložene suncu\, moru i vjetru na beskraju pučine u direktnom smo kontaktu s elementima i prirodom. Bez mora\, vjetra i broda nema jedrenja\, a bez vatre u srcu nema iscjeljenja. Naše tijelo postaje naše uzemljenje u maloj grupi povezanih žena na jedrilici. \nKAD: 4. – 11.10.2025. \nGDJE: Jadran\, dalmatinski otoci \nVELIČINA GRUPE I BROD: 6-8 sudionica smještene na jedrilici u dvokrevetnim kabinama + 2 voditeljice na brodu (detalji o brodu i marini polaska naknadno) \nCIJENA: \n730 € (prijave do 1.4.2025. u ponoć) \n830 € (prijave od 2.4.2025. do popunjavanja grupe) \nU cijenu je uključeno sve osim hrane (dijeli se na sudionice) i putnih troškova (do marine). \nPRIJAVE: \nBroj mjesta je ograničen\, pa je prijava obavezna. Prijava je važeća uz polog od 300 eura koji je uključen u cijenu (podaci za uplatu stižu nakon ispunjavanja linka za prijavu) \nLink za prijavu: https://forms.gle/PEfuFXq7F7FvawpB9 \nZa informacije: kazalistebesa@gmail.com \n*U slučaju rane prijave jedriličarke koje su već sudjelovale u našim programima za žene imaju popust od 5%. \nAko vas zanima kako je bilo proteklih godina\, bacite pogled na naše galeriju na FB profilu BESA Art & Heal. \nZanima te događaj\, ali ne možeš ovaj put doći jer već imaš druge planove? Prijavi se na ovom linku i dobit ćeš obavijest o idućoj radionici (i svakako provjeri spam :)) \nhttp://eepurl.com/hVjK2T \nZaplovite s nama i dotaknite beskraj sebe!  \n 
URL:https://besa.hr/event/sailing-elements-jedrenje-za-zene-4-11-10-2025-jadran-dalmatinski-otoci/
ATTACH;FMTTYPE=image/jpeg:https://besa.hr/wp-content/uploads/2025/07/sailing-elements.jpg
END:VEVENT
END:VCALENDAR