BEGIN:VCALENDAR
VERSION:2.0
PRODID:-//Besa - ECPv6.15.16//NONSGML v1.0//EN
CALSCALE:GREGORIAN
METHOD:PUBLISH
X-ORIGINAL-URL:https://besa.hr
X-WR-CALDESC:Events for Besa
REFRESH-INTERVAL;VALUE=DURATION:PT1H
X-Robots-Tag:noindex
X-PUBLISHED-TTL:PT1H
BEGIN:VTIMEZONE
TZID:Europe/Zagreb
BEGIN:DAYLIGHT
TZOFFSETFROM:+0100
TZOFFSETTO:+0200
TZNAME:CEST
DTSTART:20240331T010000
END:DAYLIGHT
BEGIN:STANDARD
TZOFFSETFROM:+0200
TZOFFSETTO:+0100
TZNAME:CET
DTSTART:20241027T010000
END:STANDARD
BEGIN:DAYLIGHT
TZOFFSETFROM:+0100
TZOFFSETTO:+0200
TZNAME:CEST
DTSTART:20250330T010000
END:DAYLIGHT
BEGIN:STANDARD
TZOFFSETFROM:+0200
TZOFFSETTO:+0100
TZNAME:CET
DTSTART:20251026T010000
END:STANDARD
BEGIN:DAYLIGHT
TZOFFSETFROM:+0100
TZOFFSETTO:+0200
TZNAME:CEST
DTSTART:20260329T010000
END:DAYLIGHT
BEGIN:STANDARD
TZOFFSETFROM:+0200
TZOFFSETTO:+0100
TZNAME:CET
DTSTART:20261025T010000
END:STANDARD
END:VTIMEZONE
BEGIN:VEVENT
DTSTART;TZID=Europe/Zagreb:20251019T160000
DTEND;TZID=Europe/Zagreb:20251019T200000
DTSTAMP:20260423T125353
CREATED:20250901T214218Z
LAST-MODIFIED:20250901T214218Z
UID:795-1760889600-1760904000@besa.hr
SUMMARY:TIJELO I SRAM: kako voljeti svoje tijelo?\, Split\, 19.10.2025.\, iskustvena radionica
DESCRIPTION:Koliko zaista volimo i prihvaćamo vlastito tijelo?\nNa radionici ćemo istraživati teme neprihvaćanja izgleda\, srama od izlaganja i nedostatka intime\, kao i priče koje su zaustavile ljubav prema sebi i vlastitom tijelu. Iako se sve više govori o radu kroz tijelo\, istovremeno smo izloženi snažnim društvenim pritiscima o tome kako ono „treba“ izgledati. Upravo taj konflikt često nas udaljava od sebe\, a radionica nudi siguran prostor u kojem ćemo kroz iskustvene vježbe i tjelesni rad tražiti put prema većoj slobodi\, prihvaćanju i nježnosti prema vlastitom tijelu.\n\n\nIskustvena radionica tjelesne psihoterapijeTijelo i sram: kako voljeti svoje tijelo?\n Split\, Hotel Mondo 19. 10. 2025.\, 16:00 – 20:00vodi: Marica Grgurinović\, CIR INTP\, HKPT\, EABP\n\n\nZa koga je radionica namijenjena? Za sve koji osjećaju nesigurnost u vlastitom tijelu\, teško se opuštaju u prisutnosti drugih ili nose sram vezan uz izgled i izražavanje. Za one koji žele razviti dublju povezanost sa sobom\, više samoprihvaćanja i suosjećanja prema svom tijelu.\nŠto ćete dobiti sudjelovanjem? Priliku da kroz vođene vježbe i iskustvo tijela dođete u dublji kontakt sa sobom. Alate za prepoznavanje i oslobađanje od unutarnjih blokada povezanih sa sramom. Podršku grupe i sigurno okruženje u kojem možete istraživati vlastite granice i potrebe.\nZa koga radionica nije? Radionica nije prikladna nije za one koji očekuju „instant rješenja“ – proces rada s tijelom je postupan i nježan.\nKotizacija: 50 € za rane prijave do 1. 10. 2025. 60 € za prijave od 2. 10. 2025. nadalje\nPrijave na: https://forms.gle/6fuAnofgVaRwu5Uw6\n\nZa radionicu je potreban minimalan broj plaćenih prijava do 10.10. kako bi se mogla održati.Po ispunjenoj prijavnici stižu podaci za plaćanje punog iznosa od čime je vaše mjesto rezervirano. Ispunjena prijavnica bez plaćenog iznosa neće se smatrati rezervacijom mjesta.Ukoliko se radionica popuni do 10.10.\, otvaram listu čekanja.Broj polaznika je ograničen – stoga svoje mjesto osigurajte što prije.Upute za sudjelovanje stići će na vaš mail tjedan dana prije održavanja radionice.\nPozivam vas da podijelite ovaj događaj sa svojim prijateljima i osobama kojima bi ova tematika mogla koristiti. Prijavite se već danas jer je broj mjesta ograničen.\nRadionica je ujedno prezentacija rada i programa edukacije za tjelesno orijentirane terapeute u CIR INTP\, o čemu više možete pronaći na www.cir-intp.com.\n\nVoditeljica radionice:MARICA GRGURINOVIĆ\, savjetodavna terapeutkinja tjelesno-orijentirane psihoterapije; članica učiteljskog tima u CIR INTP (Split i Sarajevo); članica strukovnih organizacija HKPT\, EABP i EUROTAS. Kazališna redateljica i dramska pedagoginja s preko 20 godina rada s ljudima. Koristeći glumačke tehnike i dramsko-pedagoške metode radi na razvijanju ličnosti\, komunikacijskih i izražajnih te kreativnih sposobnosti. Radila je u kulturnom managementu\, produkciji te kao predavač scenske umjetnosti na Filozofskom fakultetu u Splitu. Edukacije: obiteljske konstelacije\, energetski rad\, tantričke i šamanske prakse (International School of Temple Arts).U svoj rad koristi znanja i višegodišnje iskustvo rada s ljudima spajajući umjetnost iz koje dolazi (kazalište\, lutkarstvo\, ples\, glazba\, film) te tjelesni izričaj i psihoterapiju. Danas kaže da su umjetnost i terapija dvije noge kojima hoda po svijetu i to je ono što s radošću\, poniznošću i dubokom zahvalnošću nudi svakoj Duši koja se otvori na putu\, u individualnom radu\, na terapijama\, radionicama\, predavanjima\, usputnim susretima.Više o meni i ostalim programima na www.besa.hr i https://www.cir-intp.com/split\n\nZanima te događaj\, ali ne možeš ovaj put doći jer već imaš druge planove? Prijavi se na linku www.besa.hr
URL:https://besa.hr/event/tijelo-i-sram-kako-voljeti-svoje-tijelo-split-19-10-2025-iskustvena-radionica/
CATEGORIES:radionice
ATTACH;FMTTYPE=image/jpeg:https://besa.hr/wp-content/uploads/2025/09/Tijelo-i-sram-kako-voljeti-svoje-tijelo__newsletter.jpg
END:VEVENT
END:VCALENDAR