BEGIN:VCALENDAR
VERSION:2.0
PRODID:-//Besa - ECPv6.15.16//NONSGML v1.0//EN
CALSCALE:GREGORIAN
METHOD:PUBLISH
X-ORIGINAL-URL:https://besa.hr
X-WR-CALDESC:Events for Besa
REFRESH-INTERVAL;VALUE=DURATION:PT1H
X-Robots-Tag:noindex
X-PUBLISHED-TTL:PT1H
BEGIN:VTIMEZONE
TZID:Europe/Zagreb
BEGIN:DAYLIGHT
TZOFFSETFROM:+0100
TZOFFSETTO:+0200
TZNAME:CEST
DTSTART:20240331T010000
END:DAYLIGHT
BEGIN:STANDARD
TZOFFSETFROM:+0200
TZOFFSETTO:+0100
TZNAME:CET
DTSTART:20241027T010000
END:STANDARD
BEGIN:DAYLIGHT
TZOFFSETFROM:+0100
TZOFFSETTO:+0200
TZNAME:CEST
DTSTART:20250330T010000
END:DAYLIGHT
BEGIN:STANDARD
TZOFFSETFROM:+0200
TZOFFSETTO:+0100
TZNAME:CET
DTSTART:20251026T010000
END:STANDARD
BEGIN:DAYLIGHT
TZOFFSETFROM:+0100
TZOFFSETTO:+0200
TZNAME:CEST
DTSTART:20260329T010000
END:DAYLIGHT
BEGIN:STANDARD
TZOFFSETFROM:+0200
TZOFFSETTO:+0100
TZNAME:CET
DTSTART:20261025T010000
END:STANDARD
END:VTIMEZONE
BEGIN:VEVENT
DTSTART;TZID=Europe/Zagreb:20251206T100000
DTEND;TZID=Europe/Zagreb:20251206T170000
DTSTAMP:20260423T104159
CREATED:20251012T095703Z
LAST-MODIFIED:20251022T095329Z
UID:811-1765015200-1765040400@besa.hr
SUMMARY:Otvorena vrata CIR INTP Sarajevo\, iskustvena radionica tjelesne psihoterapije\, Tuzla\, 6.12.
DESCRIPTION:CIR INTP vas poziva na dan otvorenih vrata centra\, priliku da kroz iskustvenu radionicu upoznate naš pristup tjelesno orijentiranoj psihoterapiji. U sigurnom i podržavajućem okruženju\, uz vođenje iskusnih terapeuta\, imat ćete priliku istražiti teme\, modalitete i tehnike rada s tijelom\, kontaktom\, dahom\, pokretom\, emocijama i regulacijom. Temeljne principe našeg rada. \nOvaj događaj otvoren je svima koji žele osobno iskustvo rada kroz tijelo te onima koje zanima stručno usavršavanje i edukacija za tjelesno orijentirane terapeute. \nTema radionice: Tijelo i sram – kako voljeti svoje tijelo? \nKoliko zaista volimo i prihvaćamo vlastito tijelo? Na radionici ćemo istraživati teme srama\, neprihvaćanja izgleda i teškoće u izlaganju. Iako sve više govorimo o važnosti tijela\, istodobno smo izloženi snažnim društvenim pritiscima o tome kako ono „treba“ izgledati. Taj unutarnji konflikt često nas udaljava od sebe. \nRadionica nudi siguran prostor u kojem kroz iskustvene vježbe i tjelesni rad možete pronaći put prema većoj slobodi\, nježnosti i autentičnom odnosu prema vlastitom tijelu. \nTermin i lokacija \nTuzla\nKlosterska 13\, Udruženje Amica Educa\nSubota\, 6.12.2025.\n10:00 – 17:00 (pauza za ručak 13:00 – 14:30) \nVoditeljica:\nMarica Grgurinović\, CIR INTP\, HKPT\, EABP\, EUROTAS\nSavjetodavna terapeutkinja tjelesno orijentirane psihoterapije\, članica učiteljskog tima CIR INTP (Split i Sarajevo). Više o Marici i njezinom radu potražite na www.besa.hr i cir-intp.com/split. \nKome je radionica namijenjena? \n\nSvima koji osjećaju nesigurnost u vlastitom tijelu\, teško se opuštaju u prisutnosti drugih ili nose sram vezan uz izgled i izražavanje.\nOnima koji žele razviti dublju povezanost sa sobom\, više samoprihvaćanja i suosjećanja prema svom tijelu.\nTerapeutima drugih modaliteta koji žele integrirati rad s tijelom u svoju profesionalnu praksu.\n\nŠto ćete dobiti sudjelovanjem? \n\nIskustvo dubokog kontakta sa sobom kroz vođene vježbe i rad s tijelom.\nAlate za prepoznavanje i oslobađanje srama i unutarnjih blokada.\nPodršku grupe i osjećaj sigurnog prostora za istraživanje vlastitih granica i potreba.\n\nRadionica nije namijenjena onima koji očekuju „instant rješenja“ – proces rada s tijelom je postupan\, nježan i usmjeren na autentičan kontakt sa sobom. \nUpoznajte CIR INTP \nSudjelovanjem na ovoj radionici imat ćete priliku upoznati rad i pristup CIR INTP-a\, prvog akreditiranog instituta za tjelesno orijentiranu psihoterapiju u regiji prema standardima EABP-a (Europske asocijacije za tjelesno orijentiranu psihoterapiju). \nRadionica je dio ciklusa Otvorenih vrata koji organiziramo u sklopu upisa nove generacije u programe osobnog razvoja i edukacije za buduće terapeute. \nKOTIZACIJA TUZLA \n\n\nRana prijava: 50 EUR (do dva tjedna prije radionice)\nKasna prijava: 70 EUR (do popunjavanja mjesta)\n\n\nBroj mjesta je ograničen. Po ispunjenoj prijavnici na mail stižu podaci za uplatu\, čime se rezervira mjesto. Prijavnica bez uplate ne smatra se potvrdom sudjelovanja. \nPotvrda o pohađanju (bodovanje): \n\nCIR – 2 psihoterapijska sata iz grupnog rada\nEABP – 5 psihoterapijskih sati iz grupnog rada\n\nDodatne informacije \n\nMinimalan broj plaćenih prijava potreban je za održavanje radionice.\nUpute za sudjelovanje stižu e-mailom tjedan dana prije početka.\nAko ne možete prisustvovati ovom terminu\, možete se prijaviti za obavijest o budućim radionicama na www.besa.hr.\n\nŽelite bolje upoznati svoj unutarnji svijet kroz tijelo? Pridružite se iskustvenoj radionici “Tijelo i sram: kako voljeti svoje tijelo?” Otkrijte kako tijelo može postati vaš saveznik u prihvaćanju\, iscjeljenju i osobnom rastu. \nPRIJAVI SE: https://docs.google.com/forms/d/e/1FAIpQLSeIrTvTi58b9vNiA1In-F-_NwSr1QVNJScVV8f_rUF8PaeKVg/viewform?usp=header 
URL:https://besa.hr/event/otvorena-vrata-cir-intp-sarajevo-iskustvena-radionica-tjelesne-psihoterapije-tuzla-6-12/
CATEGORIES:radionice
ATTACH;FMTTYPE=image/jpeg:https://besa.hr/wp-content/uploads/2025/10/OTVORENA-VRATA-CIR-INTP-OCo-TUZLA.jpg
END:VEVENT
END:VCALENDAR