BEGIN:VCALENDAR
VERSION:2.0
PRODID:-//Besa - ECPv6.15.16//NONSGML v1.0//EN
CALSCALE:GREGORIAN
METHOD:PUBLISH
X-ORIGINAL-URL:https://besa.hr
X-WR-CALDESC:Events for Besa
REFRESH-INTERVAL;VALUE=DURATION:PT1H
X-Robots-Tag:noindex
X-PUBLISHED-TTL:PT1H
BEGIN:VTIMEZONE
TZID:Europe/Zagreb
BEGIN:DAYLIGHT
TZOFFSETFROM:+0100
TZOFFSETTO:+0200
TZNAME:CEST
DTSTART:20250330T010000
END:DAYLIGHT
BEGIN:STANDARD
TZOFFSETFROM:+0200
TZOFFSETTO:+0100
TZNAME:CET
DTSTART:20251026T010000
END:STANDARD
BEGIN:DAYLIGHT
TZOFFSETFROM:+0100
TZOFFSETTO:+0200
TZNAME:CEST
DTSTART:20260329T010000
END:DAYLIGHT
BEGIN:STANDARD
TZOFFSETFROM:+0200
TZOFFSETTO:+0100
TZNAME:CET
DTSTART:20261025T010000
END:STANDARD
BEGIN:DAYLIGHT
TZOFFSETFROM:+0100
TZOFFSETTO:+0200
TZNAME:CEST
DTSTART:20270328T010000
END:DAYLIGHT
BEGIN:STANDARD
TZOFFSETFROM:+0200
TZOFFSETTO:+0100
TZNAME:CET
DTSTART:20271031T010000
END:STANDARD
END:VTIMEZONE
BEGIN:VEVENT
DTSTART;TZID=Europe/Zagreb:20260531T100000
DTEND;TZID=Europe/Zagreb:20260531T170000
DTSTAMP:20260422T015120
CREATED:20260401T073714Z
LAST-MODIFIED:20260401T073714Z
UID:945-1780221600-1780246800@besa.hr
SUMMARY:TAJNE I LAŽI\, konstelacijski ples + live music\, Split\, 31.5.
DESCRIPTION:„O mrtvima sve najbolje – ili nikako.“ \nAli koliko zapravo znamo o onima koji su bili prije nas? Koliko poznajemo stvarnu povijest svoje obitelji – ne onu koja se pokazuje prema van\, nego onu koja se živi ispod površine? Odakle su naši preci došli\, kako su živjeli i koje su ključne stvari oblikovale njihove živote? \nU mnogim obiteljima ta povijest nije izgubljena – nego je prekrivena šutnjom. Postoje stvari koje se ne govore\, događaji koji se zaobilaze i istine koje nisu bile sigurne ili poželjne za izgovoriti. Ponekad ne znamo jer nitko nije pričao. Ponekad ne pitamo jer osjećamo da ne smijemo. A ponekad su priče koje nosimo već prilagođene – ublažene ili izmijenjene da bi bile lakše za nositi. \nU mnogim obiteljima povijest je obavijena šutnjom.Ne zato što nema priča – nego zato što se neke ne govore. \nPonekad ne znamo.Ponekad ne želimo znati.A ponekad… istina nije bila sigurna za izgovoriti. \n🌿 Svaka obitelj ima svoje tajne.🌿 Svaka obitelj ima svoje laži. \nLaži koje čuvaju sliku.Imidž.Dostojanstvo.Status. \nOne koje omogućuju da izvana sve izgleda „kako treba“. Uređeno. Usklađeno. Uglađeno. \nSpremno za pokazati svijetu. … ili prošetati po splitskoj rivi. \nA što je slika ljepša – to se ponekad dublje pitamo: \n👉 što ona skriva? \nJer tajne i laži ne nestaju.One ostaju u sustavu. \nI često –cijenu za njih plaćaju oni koji dolaze poslije. \nI tako se može dogoditi da danas zapinjemo o iste dinamike.\nKroz vlastite male ili velike laži.\nKroz dijelove života koje skrivamo.\nKroz strah da stanemo pred sebe ili druge i izgovorimo svoju istinu – jer znamo da ona nosi posljedice. \nPonekad ostajemo između potrebe da budemo autentični i potrebe da zadržimo sliku.\nI upravo tu nastaje unutarnji konflikt. \n✨ Na ovoj radionici ne tražimo istinu da bismo nekoga razotkrili.\nTražimo je da bismo oslobodili život. \n🌿 Što istražujemo? \nKroz konstelacijski ples otvaramo prostor za:\n– susret s obiteljskim tajnama (poznatim i nepoznatim)\n– prepoznavanje laži koje oblikuju naš identitet\n– uvid u odnos između slike prema van i stvarnog unutarnjeg iskustva\n– razumijevanje tereta koje nesvjesno nosimo\n– vraćanje dostojanstva istini \nKonstelacijski rad omogućuje da ono što je bilo skriveno dobije svoje mjesto – ne da bi bilo osuđeno\, nego da bi moglo biti viđeno i integrirano. \n✨ Konstelacijski ples – tijelo kao prostor istine \nTajne ne žive samo u pričama – nego i u tijelu.\nU napetosti\, u nejasnim emocijama\, u obrascima koji se ponavljaju. \nKroz pokret\, ples i svjesni dah tijelo dobiva priliku:\n• izraziti ono što nije moglo biti rečeno\n• otpustiti nakupljeni teret\n• doći u kontakt s autentičnim osjećajem \nU kombinaciji s konstelacijskim radom\, otvara se dublje razumijevanje – osobno i transgeneracijsko. \nGlazba uživo prati proces i podržava ga\, stvarajući prostor u kojem se pokret i emocija mogu slobodno razvijati. \n🤍 Snaga zajednice \nTajne nas često izoliraju.Uče nas da šutimo.Da se ne vidi. \nU grupi se događa suprotno:• stvaramo prostor povjerenja• dijelimo iskustvo bez potrebe za objašnjavanjem• osjećamo da nismo sami• dopuštamo da budemo viđeni – baš takvi kakvi jesmo \nZajedno stvaramo prostor u kojem istina može postojati. \n🌿 Što možete dobiti? \n\ndublje razumijevanje vlastite obiteljske dinamike\n• uvid u skrivene obrasce\n• olakšanje od unutarnjih tereta\n• više autentičnosti i jasnoće\n• otpuštanje napetosti iz tijela\n• osjećaj podrške i pripadanja\n\nNije potrebno plesno iskustvo – dovoljna je otvorenost za istraživanje. \nAko te ova tema dotiče\, moguće je da u tebi postoji nešto što želi biti viđeno. 🌿 \n✨ Iskustvo koje sudjelovanjem dobivate je spoj konstelacijskog rada\, pokreta i glazbe uživo – u sigurnom prostoru i uz podršku zajednice. \n🌿 Detalji: \n\nSplit – 31.5.2026.\, nedjelja\, Hotel Mondo\n10–17h (pauza 13–14:30)\n\nVode: Maša Ljotić Plichta i Marica Grgurinović \nCijene: \n\n70 EUR rana prijava | 85 EUR kasna (rana prijava do 18.5.)\nDrop in na dan radionice: 100 EUR\nBroj mjesta je ograničen!\nPrijava putem linka: https://forms.gle/HcLKqPwcqFJhLpR68\n\n🌿 Dodatne informacije: \n\nMinimalan broj prijava potreban je za održavanje radionice\n• Mjesto je rezervirano uplatom kotizacije\n• Upute za sudjelovanje stižu e-mailom tjedan dana prije početka radionice\n\n🌿 Voditeljice radionice: \nMARICA GRGURINOVIĆ\nSavjetodavna terapeutkinja tjelesno-orijentirane integrativne psihoterapije (CIR INTP)\, konstelatorica i umjetnica. Članica HKPT\, EABP i EUROTAS te učiteljskog tima CIR edukacije. U svom radu integrira tijelo\, emocije i konstelacijski pristup. \nMAŠA LJOTIĆ PLICHTA\nAkademski obrazovana glazbenica i izvođačica koja kroz improvizaciju stvara glazbeni prostor u dijalogu s pokretom i procesom grupe\, podržavajući i produbljujući iskustvo sudionika. \nAko ovaj put ne možeš doći\, možeš se prijaviti za obavijesti o budućim radionicama na www.besa.hr 🌿
URL:https://besa.hr/event/tajne-i-lazi-konstelacijski-ples-live-music-split-31-5/
CATEGORIES:konstelacije,konstelacijski ples,live music,radionice
ATTACH;FMTTYPE=image/jpeg:https://besa.hr/wp-content/uploads/2026/04/fb-cover-1.jpeg
END:VEVENT
END:VCALENDAR